BEGIN:VCALENDAR
VERSION:2.0
PRODID:-//hacksw/handcal//NONSGML v1.0//EN
CALSCALE:GREGORIAN
BEGIN:VEVENT
ORGANIZER;CN=Getty Images:MAILTO:no-reply@gcs-web.com
DTEND:
UID:4d91807c-0b33-4eae-a745-3a08052e036c
DTSTAMP:1777055892
LOCATION:https://edge.media-server.com/mmc/p/my9zbsyh
DESCRIPTION:Event Details https://investors.gettyimages.com/events/event-details/getty-images-holdings-inc-first-quarter-2026-earnings-call\n\nWebcast: https://edge.media-server.com/mmc/p/my9zbsyh
URL;VALUE=URI:https://edge.media-server.com/mmc/p/my9zbsyh
SUMMARY:Getty Images - Getty Images Holdings, Inc. First Quarter 2026 Earnings Call
DTSTART:20260511T203000Z
END:VEVENT
END:VCALENDAR